BEGIN:VCALENDAR
VERSION:2.0
PRODID:-//EPICUR - ECPv5.9.1//NONSGML v1.0//EN
CALSCALE:GREGORIAN
METHOD:PUBLISH
X-WR-CALNAME:EPICUR
X-ORIGINAL-URL:https://archive.epicur.education
X-WR-CALDESC:Events for EPICUR
BEGIN:VTIMEZONE
TZID:Europe/Paris
BEGIN:DAYLIGHT
TZOFFSETFROM:+0100
TZOFFSETTO:+0200
TZNAME:CEST
DTSTART:20220327T010000
END:DAYLIGHT
BEGIN:STANDARD
TZOFFSETFROM:+0200
TZOFFSETTO:+0100
TZNAME:CET
DTSTART:20221030T010000
END:STANDARD
END:VTIMEZONE
BEGIN:VEVENT
DTSTART;TZID=Europe/Paris:20220623T150000
DTEND;TZID=Europe/Paris:20220623T190000
DTSTAMP:20260421T103059
CREATED:20220603T134907Z
LAST-MODIFIED:20220603T135308Z
UID:17175-1655996400-1656010800@archive.epicur.education
SUMMARY:"Research in Germany" Virtual Career Fair
DESCRIPTION:On June 23rd\, “Research in Germany” is organizing a virtual fair bringing together German universities and research institutions interested in recruiting international PhD students and researchers.  \n\n\n\nMultiple booths\, each representing a German university or research institution\, will offer the opportunity to get a wide array of information on doctoral positions and research openings\, programmes and study opportunities. Apart from that\, talking to recruiters and scientists from all the exhibiting higher education institutions via one-to-one online chats will also be possible. \n\n\n\nTwo EPICUR partner institutions\, the University of Freiburg and the Karlsruhe Institute of Technology\, will also be represented at the fair. \n\n\n\nThe German exhibitors will offer detailed information about research funding\, PhD programmes\, research groups\, PhD and post-doctoral positions and junior professorships in all scientific disciplines. \n\n\n\nThe event is open to anyone interested in research in Germany. It is free of charge and will be conducted in English. \n\n\n\n\n\n\nRegister here
URL:https://archive.epicur.education/event/research-in-germany-virtual-career-fair/
CATEGORIES:EPICUR events,European events
ATTACH;FMTTYPE=image/jpeg:https://archive.epicur.education/wp-content/uploads/2022/06/Webseitenteaser_Virtual_Fair_June2022_640x360px.jpg
END:VEVENT
BEGIN:VEVENT
DTSTART;TZID=Europe/Paris:20220630T080000
DTEND;TZID=Europe/Paris:20220630T170000
DTSTAMP:20260421T103059
CREATED:20220718T065720Z
LAST-MODIFIED:20220718T065722Z
UID:17710-1656576000-1656608400@archive.epicur.education
SUMMARY:Campus of the European universities\, Versailles.
DESCRIPTION:The event will bring together the presidents of the 300 establishments involved in the 41 alliances of European Universities\, in order to make an initial assessment of their achievements and the work undertaken to strengthen them. \n\n\n\nIt is organised by the French Ministry for Higher Education and Research together with the Ministry for Europe and Foreign Affairs\, France Universités\, the Conference of Deans of French Schools of Engineering (CDEFI)\, the High Council for Evaluation of Research and Higher Education (HCERES)\, the Commission des Titres d’Ingénieur (CTI)\, Campus France and the Agence Erasmus+ France.  \n\n\n\nOpened by European Commissioner Mariya Gabriel and the French Minister of Higher Education and Research\, Sylvie Retailleau\, this event will emphasise the importance of universities in Europe\, at the heart of ensuring well-informed citizens.
URL:https://archive.epicur.education/event/campus-of-the-european-universities-versailles/
CATEGORIES:European events
ATTACH;FMTTYPE=image/jpeg:https://archive.epicur.education/wp-content/uploads/2022/07/Campus-universidades-3x2-600.jpg
END:VEVENT
END:VCALENDAR