BEGIN:VCALENDAR
VERSION:2.0
PRODID:-//EPICUR - ECPv5.9.1//NONSGML v1.0//EN
CALSCALE:GREGORIAN
METHOD:PUBLISH
X-WR-CALNAME:EPICUR
X-ORIGINAL-URL:https://archive.epicur.education
X-WR-CALDESC:Events for EPICUR
BEGIN:VTIMEZONE
TZID:Europe/Paris
BEGIN:DAYLIGHT
TZOFFSETFROM:+0100
TZOFFSETTO:+0200
TZNAME:CEST
DTSTART:20220327T010000
END:DAYLIGHT
BEGIN:STANDARD
TZOFFSETFROM:+0200
TZOFFSETTO:+0100
TZNAME:CET
DTSTART:20221030T010000
END:STANDARD
END:VTIMEZONE
BEGIN:VEVENT
DTSTART;TZID=Europe/Paris:20220506T161500
DTEND;TZID=Europe/Paris:20220506T174500
DTSTAMP:20260421T132503
CREATED:20220505T134247Z
LAST-MODIFIED:20220505T151432Z
UID:16370-1651853700-1651859100@archive.epicur.education
SUMMARY:EPICUR Info Session/Launch Event European Tracks
DESCRIPTION:The EPICUR Freiburg Team cordially invites you to an information session/launch event for the European Tracks on May 06th\, 2022 at 04.15pm (CET) at the University of Freiburg (UCF\, Max-Kade-Auditorium). The event will be livestreamed for everyone interested! \n\n\n\nAdd a European component to your studies with EPICUR! – How does that work? EPICUR\, the European University Alliance\, offers numerous opportunities for students to add courses to their curricula in the areas of sustainability\, European Identities\, language & culture and many more. The current course catalogue for the upcoming fall/winter semester 2022/23 is now online and interested students can sign up for courses from May 16 onwards. For all those who are interested and want to know more about the courses\, the European Tracks and other opportunities in EPICUR education\, the EPICUR Freiburg team is offering an info session this Friday\, 06 May in the Max-Kade Auditorium 1 at University College Freiburg at 04:15pm (CEST). We cordially invite interested students\, but also programme coordinators\, potential multipliers as well as potential EPIC Mission stakeholders and the interested public. The event will be live-streamed for interested people outside of Freiburg or people who cannot attend in person.  \n\n\n\nMore info sessions will follow in the course of the next weeks (online). \n\n\n\nMore information \n\n\n\nJoin the infosession via livestream here:  \n\n\n\n\nLivestream
URL:https://archive.epicur.education/event/epicur-info-session-launch-event-european-tracks/
CATEGORIES:EPICUR events,European events
ATTACH;FMTTYPE=image/png:https://archive.epicur.education/wp-content/uploads/2022/05/MicrosoftTeams-image-25.png
END:VEVENT
BEGIN:VEVENT
DTSTART;TZID=Europe/Paris:20220516T170000
DTEND;TZID=Europe/Paris:20220516T180000
DTSTAMP:20260421T132503
CREATED:20220505T132955Z
LAST-MODIFIED:20220511T110348Z
UID:16371-1652720400-1652724000@archive.epicur.education
SUMMARY:Info session for students on EPICUR course registrations for the academic year 2022:23
DESCRIPTION:From 16 May to 13 June\, all students from the 9 EPICUR universities will be able to register for the courses offered for the first semester of the 2022/2023 academic year. \n\n\n\nDiscover a catalogue of outstanding courses that will allow you to add value to your curriculum\, interact with students from 9 universities in Europe and select innovative teaching for creative learning. Registration opens on 16 May\, but you can already find out about our courses for the first semester of the 2022-2023 academic year here. \n\n\n\nTo learn more about the courses\, the application procedures and to talk to other students and training managers\, we invite you to our information session for students on Zoom on 16 May 2022 at 5:00 pm (CEST) \n\n\n\n\nZoom Link
URL:https://archive.epicur.education/event/student-info-session-on-epicur-course-registrations-for-the-academic-year-202223/
CATEGORIES:EPICUR events
ATTACH;FMTTYPE=image/jpeg:https://archive.epicur.education/wp-content/uploads/2022/05/AdobeStock_357468798-scaled.jpeg
END:VEVENT
BEGIN:VEVENT
DTSTART;TZID=Europe/Paris:20220517T100000
DTEND;TZID=Europe/Paris:20220517T113000
DTSTAMP:20260421T132503
CREATED:20220505T121235Z
LAST-MODIFIED:20220505T125619Z
UID:16362-1652781600-1652787000@archive.epicur.education
SUMMARY:Inviting master’s students to join the Master Labs Focus Group Interview on May 17th
DESCRIPTION:College students using laptop while sitting at table. Group study for school assignment.\n\n\n\nAre you considering pursuing a research career? Does the idea of being involved in an international\, interdisciplinary research project during your master’s studies pique your interest? Then the EPICUR Alliance needs your input! \n\n\n\nIn order to develop an attractive and innovative research-oriented blended mobility programme for master’s students that is tailored to your needs\, you are kindly invited to join us for the 2nd Master Labs Focus Group Interviewon Tuesday\, May 17th from 10:00-11:30 CET to share your ideas and be a part of the programme design process. At EPICUR\, we place a great deal of emphasis on co-creation and greatly value student input. \n\n\n\nTo register and receive the Zoom link\, please send an email with your name\, university and field of study to Ms. Kirsten Rosa at kirsten.rosa@kit.edu by Friday\, May 13th.
URL:https://archive.epicur.education/event/inviting-masters-students-to-join-the-master-labs-focus-group-interview-on-may-17th/
CATEGORIES:EPICUR events
ATTACH;FMTTYPE=image/jpeg:https://archive.epicur.education/wp-content/uploads/2022/05/AdobeStock_214906367-scaled.jpeg
END:VEVENT
BEGIN:VEVENT
DTSTART;TZID=Europe/Paris:20220524T100000
DTEND;TZID=Europe/Paris:20220524T110000
DTSTAMP:20260421T132503
CREATED:20220510T123357Z
LAST-MODIFIED:20220511T111114Z
UID:16577-1653386400-1653390000@archive.epicur.education
SUMMARY:Info session for students on the application for the EPICUR courses in the academic year 2022/23
DESCRIPTION:From 16 May to 13 June\, all students from the 9 EPICUR universities will be able to register for the courses offered for the first semester of the 2022/2023 academic year. \n\n\n\nDiscover a catalogue of outstanding courses that will allow you to add value to your curriculum\, interact with students from 9 universities in Europe and select innovative teaching for creative learning. Registration opens on 16 May\, but you can already find out about our courses for the first semester of the 2022/2023 academic year here. \n\n\n\nTo learn more about the courses\, the application procedures and to talk to other students and training managers\, we invite you to our information session on Zoom on 24 May 2022 at 10:00 am (CET) \n\n\n\n\nZoom link
URL:https://archive.epicur.education/event/information-session-for-students-to-apply-for-the-epicur-academic-year-2022-23/
CATEGORIES:EPICUR events,European events
ATTACH;FMTTYPE=image/jpeg:https://archive.epicur.education/wp-content/uploads/2022/05/AdobeStock_206335315-scaled.jpeg
END:VEVENT
END:VCALENDAR