BEGIN:VCALENDAR
VERSION:2.0
PRODID:-//EPICUR - ECPv5.9.1//NONSGML v1.0//EN
CALSCALE:GREGORIAN
METHOD:PUBLISH
X-WR-CALNAME:EPICUR
X-ORIGINAL-URL:https://archive.epicur.education
X-WR-CALDESC:Events for EPICUR
BEGIN:VTIMEZONE
TZID:Europe/Paris
BEGIN:DAYLIGHT
TZOFFSETFROM:+0100
TZOFFSETTO:+0200
TZNAME:CEST
DTSTART:20210328T010000
END:DAYLIGHT
BEGIN:STANDARD
TZOFFSETFROM:+0200
TZOFFSETTO:+0100
TZNAME:CET
DTSTART:20211031T010000
END:STANDARD
END:VTIMEZONE
BEGIN:VEVENT
DTSTART;TZID=Europe/Paris:20210504T173000
DTEND;TZID=Europe/Paris:20210504T183000
DTSTAMP:20260422T114804
CREATED:20210326T090153Z
LAST-MODIFIED:20210419T125254Z
UID:5254-1620149400-1620153000@archive.epicur.education
SUMMARY:EPICURtalks N°4 "L2D2"
DESCRIPTION:Please RSVP to: k.kiefel@zv.uni-freiburg.de by May 3\, 2021. The event will take approximately an hour. \n\n\n\n\n\n\n\nThe EPICUR Alliance cordially invites you to its fourth virtual EPICURtalk and discussion on May\, 04th\, 2021 at 5:30 pm CET \n\n\n\nL2D2Teaching and Learning under the Conditions of Digitization and Digitality with David Lohner Center for Technology-Enhanced Learning Karlsruhe Institute for Technology (KIT)\n\n\n\n“The idea that is being pursued with L2D2 challenges and encourages students and lecturers alike to deal productively with the question of how digitality changes teaching and learning” Sarah Stumpf\, L2D2 \n\n\n\nBeyond replacing books and papers with computers\, the process of digitalization has created a new culture of digitality which deeply affects the way teaching and learning is organized and structured. In his talk\, David Lohner will address the outcomes and experiences of the L2D2-Project that is connecting five universities in Germany\, holding a digital joint inter-university seminar on the subject of “Teaching and Learning under the Conditions of Digitization and Digitality”. The seminar is built around the four key competences of learning in the twenty-first century: communication\, collaboration\, creativity and critical thinking. The group of lecturers\, which met through Twitter based their seminar on two major questions: What does the culture of digitality mean for students and educators? What defines quality teaching under the condition of digitalization and digitality? Offering an opportunity for both students and educators to learn and grow professionally\, David Lohner will share some of the key lessons of this award-winning seminar.  \n\n\n\nThe EPICURtalks lecture will be followed by a discussion with Dorthe Hutz-Nierhoff\, E-Learning Department\, University of Freiburg. Please RSVP to: k.kiefel@zv.uni-freiburg.de by May\, 3rd. Attendees will receive their zoom link on May\, 4th. The event will take approximately an hour.
URL:https://archive.epicur.education/event/epicurtalk-n4-l2d2/
CATEGORIES:EPICUR events
ATTACH;FMTTYPE=image/png:https://archive.epicur.education/wp-content/uploads/2021/03/EPICURtalk4-4.png
END:VEVENT
END:VCALENDAR