BEGIN:VCALENDAR
VERSION:2.0
PRODID:-//EPICUR - ECPv5.9.1//NONSGML v1.0//EN
CALSCALE:GREGORIAN
METHOD:PUBLISH
X-WR-CALNAME:EPICUR
X-ORIGINAL-URL:https://archive.epicur.education
X-WR-CALDESC:Events for EPICUR
BEGIN:VTIMEZONE
TZID:Europe/Paris
BEGIN:DAYLIGHT
TZOFFSETFROM:+0100
TZOFFSETTO:+0200
TZNAME:CEST
DTSTART:20210328T010000
END:DAYLIGHT
BEGIN:STANDARD
TZOFFSETFROM:+0200
TZOFFSETTO:+0100
TZNAME:CET
DTSTART:20211031T010000
END:STANDARD
END:VTIMEZONE
BEGIN:VEVENT
DTSTART;TZID=Europe/Paris:20210406T173000
DTEND;TZID=Europe/Paris:20210406T183000
DTSTAMP:20260422T133109
CREATED:20210323T161017Z
LAST-MODIFIED:20210409T101435Z
UID:5215-1617730200-1617733800@archive.epicur.education
SUMMARY:EPICURtalks. N°3
DESCRIPTION:  \n \n\n \nDuring this third EPICURtalk Stéphanie Nolot talked about the HackeTaFac – a student innovation competition at the University of Strasbourg.\nHere you can watch the video of her EPICURtalk: \n \n https://www.youtube.com/watch?v=VK66keSTEBsThe HackeTaFac project\, a competition of the University of Strasbourg to create tomorrow’s digital tools for student success. A contest where students take their future into their own hands!  The principle? Be creative\, alone or in a team\, to imagine solutions with a digital component that renovate\, improve\, simplify\, transform\, invent… tools or services in favor of student success.  Stéphanie Nolot\, from the University of Strasbourg’s Institute for Pedagogical Development and Innovation\, will be our speaker and accepted to answer some questions about the project and its interest for EPICUR.   \n \n \n \n1. What is the Hacketafac project all about? HackeTaFac is a competition which encourages students to propose digital projects which will benefit the students’ community. No need to be a digital expert\, instead\, we ask them to have a project that seeks to enhance students’ achievement\, and which is related to one of the 8 HackeTaFac themes. It can be a software to help stay organized\, a forum to share ideas\, a website to study and play\, … If they win\, we’ll bring them support and training and up to 10 000€ to realize their project. HackeTaFac is a true collaboration between students and staff\, which lead to innovative solutions developed by students for students.  \n \n2. What is your role in the project? How did you come to be involved in it?  Actually\, I’m a new-comer in HackeTaFac ! The project has been initiated by my colleagues Alexandra Delaunay and Coralie Bajas-Schaefer in 2018\, who actively contributed to its definition\, development and execution. Since September 2020\, I’m in charge of the HackeTaFac global organization\, dealing with administrative\, logistic and communication aspects. I also bring support to team projects. In collaboration with Hassania Sebti\, from the Entrepreneurship Department (ETENA)\, we advise students on project management\, help them find contacts and information and have a facilitating role when needed. We also work closely with our internal partners to propose ways of improving the HackeTaFac challenge.   \n \n3. What challenges does HackeTaFac seeks to address? The main purpose is to create innovative solutions\, which will benefit to all students. In that order\, 8 challenges are proposed to the applicants: prepare for your exams\, becoming a student\, imagine tomorrow’s green campus\, prepare your cross-border mobility\, imagine how to invest alternative places\, manage your time\, prepare your future\, and a free subject.  \n \n4. When is it taking place? Is it the first edition?  HackeTaFac challenge takes place every 2 years. The first edition was in 2018. The next one will start in 2022.  \n \n5. What is the role of students and teaching staff in it?  HackeTaFac requires a real involvement from students\, as they’re studying and developing their project during their curriculum! Most of the time\, the first weeks are dedicated to defining the scope: they discuss about feasibility and deadlines with internal experts\, detail their forecast budget\, ask for advice to external professionals\, etc. They also improve their skills thanks to Project Management trainings or Value Proposition. All along the project\, they become more and more autonomous. Some of them are really enthusiastic to collaborate with their peers and propose student internships. At the same time\, they elaborate surveys and plan beta tests to obtain regular feedbacks from the Community. All motivated teachers are invited to participate to these events and teams are always looking for advice\, knowledge and support from them.  \n \n6. How and what can EPICUR learn from the Hacketafac project?  The big innovation in this project is the fact that it is students themselves who carry out projects that concern them directly. They are at the heart of the design\, and there is a real collaboration between them and us. Too often\, when students think of a project\, they don’t know which actors to approach and are sometimes even suspicious of the institutions they are part of. We are there to help them meet the right actors so that they can develop their skills.  \n \n7. What do you expect from your EPICURtalks on April 6th? What I really expect from the EPICURtalks is to get feedback from university staff from other universities of the Alliance\, whether they are teachers or coordinators. Of course\, there will be a short presentation of the project. But the idea is really to create a space for the exchange of good practices\, a constructed and provided dialogue. Perhaps afterwards they will even be able to copy and paste the concept in their respective universities!  The EPICURtalks series explores the advancement in teaching & learning\, including Liberal Arts and Sciences approaches as well as developments of new tools and didactics in digital and hybrid settings. The EPICURtalks will highlight the innovative teaching & learning projects at the EPICUR alliance and its eight partner universities. Hosted by the University of Freiburg\, the series will travel virtually from partner to partner\, inviting speakers from across the disciplinary spectrum to share their diverse perspectives on the future of teaching & learning in brief talks that inspire and invite further discussion.
URL:https://archive.epicur.education/event/epicurtalks-3rd-session/
CATEGORIES:EPICUR events,European events
ATTACH;FMTTYPE=image/png:https://archive.epicur.education/wp-content/uploads/2021/03/Talk3.png
END:VEVENT
BEGIN:VEVENT
DTSTART;TZID=Europe/Paris:20210429T130000
DTEND;TZID=Europe/Paris:20210429T130000
DTSTAMP:20260422T133109
CREATED:20210322T142707Z
LAST-MODIFIED:20210419T152329Z
UID:5170-1619701200-1619701200@archive.epicur.education
SUMMARY:Save the date: European Model Language Policy to be launched on 29 April (Postponed)
DESCRIPTION:The event has been postponed to June. After signing a joint declaration on Multilingualism\, the EPICUR alliance has been working hard to develop the first-ever European model language policy for European universities which will be presented during a virtual event planned on 29 April. The launch event is open to all European universities and public institutions and will also include a panel discussion Students\, staff and representatives from other European University alliances and the European Commission will be asked to reflect on the importance and impact of the model language policy. \n\n\n\nThe model language policy aims to offer a language framework which could help promote linguistic and cultural inclusiveness\, diversity and accessibility within higher education institutions. The document consists of two mains sections on the institutional-level and the alliance-level. The model language policy also contains almost 20 topical best practices from EPICUR universities and European universities alliances on how multilingualism is implemented and promoted in the fields of teaching & learning\, research\, governance and communication. \n\n\n\nThe main organizer of the launch event is the University of Amsterdam as the coordinating partner for the theme Multilingualism within the EPICUR alliance. The European model language policy will be made available on the EPICUR website prior to the launch event. Please contact us by e-mail\, if you wish to receive an invitation.
URL:https://archive.epicur.education/event/save-the-date-european-model-language-policy-to-be-launched-on-29-april/
CATEGORIES:EPICUR events,European events
ATTACH;FMTTYPE=image/jpeg:https://archive.epicur.education/wp-content/uploads/2021/03/Screenshot_2021-03-22-Connexion.jpg
END:VEVENT
BEGIN:VEVENT
DTSTART;TZID=Europe/Paris:20210429T143000
DTEND;TZID=Europe/Paris:20210429T160000
DTSTAMP:20260422T133109
CREATED:20210421T122921Z
LAST-MODIFIED:20210504T152952Z
UID:5497-1619706600-1619712000@archive.epicur.education
SUMMARY:Expert meeting « Intercultural online/offline events from students to students »
DESCRIPTION:EPICUR online Expert meeting « Intercultural online/offline events from students to students »\n\n\n\n\n\n\n\n\n\nNovaTris\, the Centre for cross-border skills and the Chair in Interculturalities of the Université de Haute-Alsace in France are very pleased to invite you to the next EPICUR Expert Meeting Thursday\, on the 29th of April\, 2021 from 2:30 to 4 PM (UTC+1) moderated by Andreas Vögele and Yin Lin\, from the Studierendenwerk Freiburg (Student Services Freiburg)\, a state-run organisation closely working with the University of Freiburg. \n\n\n\nBased on the « from students to students » concept of their International club\, Andreas and Yin will present us how to accompany German and international students in the organisation of intercultural online and offline student events and how to actively integrate them into intercultural teamwork. In 2020\, the International Club even won the German Federal Foreign Office Prize for excellent international student support services at German universities.During this meeting\, you will: \n\n\n\nGet inspiration from the variety of offline/online events from the International Club and discover their online meeting platformGet to know other EPICUR colleagues online and discuss together on ideas of new collaboration projects from students to students within the EPICUR alliance\n\n\n\nThis Expert Meeting is open to any person currently working as a teacher\, researcher or administrative staff in the field of interculturality and related concepts (cultural identities\, multiculturality\, internationality\, diversity…) in one of the 8 EPICUR universities. \n\n\n\nNovaTris\, the Centre for cross-border skills (ANR-11-IDFI-0005) at the Université de Haute-Alsace (UHA) was founded in March 2012 as an Excellence in Innovative Training Initiative (IDEFI) certified by the French National Research Agency (ANR) as part of the Investments for the Future Programme (PIA).
URL:https://archive.epicur.education/event/expert-meeting-intercultural-online-offline-events-from-students-to-students-2/
CATEGORIES:EPICUR events
ATTACH;FMTTYPE=image/jpeg:https://archive.epicur.education/wp-content/uploads/2021/04/1471865102_FWK12g_online-learning-470.jpg
END:VEVENT
END:VCALENDAR