BEGIN:VCALENDAR
VERSION:2.0
PRODID:-//EPICUR - ECPv5.9.1//NONSGML v1.0//EN
CALSCALE:GREGORIAN
METHOD:PUBLISH
X-WR-CALNAME:EPICUR
X-ORIGINAL-URL:https://archive.epicur.education
X-WR-CALDESC:Events for EPICUR
BEGIN:VTIMEZONE
TZID:Europe/Paris
BEGIN:DAYLIGHT
TZOFFSETFROM:+0100
TZOFFSETTO:+0200
TZNAME:CEST
DTSTART:20210328T010000
END:DAYLIGHT
BEGIN:STANDARD
TZOFFSETFROM:+0200
TZOFFSETTO:+0100
TZNAME:CET
DTSTART:20211031T010000
END:STANDARD
END:VTIMEZONE
BEGIN:VEVENT
DTSTART;TZID=Europe/Paris:20210202T173000
DTEND;TZID=Europe/Paris:20210202T173000
DTSTAMP:20260424T102953
CREATED:20210118T144619Z
LAST-MODIFIED:20210326T092457Z
UID:4664-1612287000-1612287000@archive.epicur.education
SUMMARY:EPICURtalks. N°1
DESCRIPTION:Innovation in Teaching & Learning ​\nThe EPICURtalks series explores the advancement in teaching & learning\, including Liberal Arts and Sciences approaches as well as developments of new tools and didactics in digital and hybrid settings. The EPICURtalks will highlight the innovative teaching & learning projects at the EPICUR alliance and its eight partner universities. Hosted by the University of Freiburg\, the series will travel virtually from partner to partner\, inviting speakers from across the disciplinary spectrum to share their diverse perspectives on the future of teaching & learning in brief talks that inspire and invite further discussion. \nThe EPICUR Alliance cordially invites you to the first virtual EPICURtalks and discussion on Feburary 2nd \, 2021 at 5 :30 pm CET\nTeaching the Global Seminar:  “Strategies for Internationalization @Home”\nwith Professor Dr. Rainer HaasInstitute for Marketing & Innovation University of Natural Resources and Life Sciences\, Vienna\n\n« International experience in a global economy is a self-evident prerequisite for a successful professional career. […] But despite these growing efforts to support internationalization at higher education levels\, there is still a significant share of students never leaving their home country for study purposes. » \nHaas and Harriet 2013 \n\nIn his talk\, Professor Haas will address the challenge of providing students with an international and intercultural experience when they are not able to participate in traditional exchange schemes. As student mobility has become severely limited by the global pandemic for the near future\, furthering strategies for alternative forms of student and staff mobility\, including the concept of internationalization at home\, has acquired a new sense of urgency. Professor Haas will share his experiences and insights on the didactic concept\, the learning cycle\, case study based teaching approach\, and the organizational issues behind a « global seminar ».  \nThe EPICURtalks lecture will be followed by a discussion with Dr. Steven Randall\, Leader of the EPICUR Work Package on Liberal Arts and Sciences Development\, University College Freiburg. There will be time to network and get to know fellow teachers and lecturers from the eight partner institutions after the official part of the event. \nPlease RSVP to: k.kiefel@zv.uni-freiburg.de by January 31st\, 2021. Attendees will receive their zoom link on February 2.  The event will take approximately an hour.
URL:https://archive.epicur.education/event/epicurtalks-1st-session-february-2/
CATEGORIES:EPICUR events
ATTACH;FMTTYPE=image/png:https://archive.epicur.education/wp-content/uploads/2021/01/EPICURtalk1-4.png
END:VEVENT
END:VCALENDAR