BEGIN:VCALENDAR
VERSION:2.0
PRODID:-//EPICUR - ECPv5.9.1//NONSGML v1.0//EN
CALSCALE:GREGORIAN
METHOD:PUBLISH
X-WR-CALNAME:EPICUR
X-ORIGINAL-URL:https://archive.epicur.education
X-WR-CALDESC:Events for EPICUR
BEGIN:VTIMEZONE
TZID:UTC
BEGIN:STANDARD
TZOFFSETFROM:+0000
TZOFFSETTO:+0000
TZNAME:UTC
DTSTART:20200101T000000
END:STANDARD
TZID:Europe/Paris
BEGIN:DAYLIGHT
TZOFFSETFROM:+0100
TZOFFSETTO:+0200
TZNAME:CEST
DTSTART:20200329T010000
END:DAYLIGHT
BEGIN:STANDARD
TZOFFSETFROM:+0200
TZOFFSETTO:+0100
TZNAME:CET
DTSTART:20201025T010000
END:STANDARD
END:VTIMEZONE
BEGIN:VEVENT
DTSTART;TZID=UTC:20201008T080000
DTEND;TZID=UTC:20201009T180000
DTSTAMP:20260421T071823
CREATED:20200715T150547Z
LAST-MODIFIED:20200720T083724Z
UID:2049-1602144000-1602266400@archive.epicur.education
SUMMARY:STUDENT WORKSHOPS
DESCRIPTION:The Conference will be taking place at the Adam Mickiewicz University\, Poznań and is addressed to students following the path and vision of Tomorrow’s Universities.Each partner university will have the opportunity to send students to participate in this conference. \n\n\n\nThis conference is composed of workshops in the first day which will allow us to exchange on experiences in all universities. It will enable us to create a platform for cooperation at the consortium level. \n\n\n\nThe second day of the meeting will consist in trainings and skills trainings\, which in the future will allow our students to discover the role of leaders and coordinators of activities in their home universities. We would also like to introduce Staff members of partner universities to our university. \n\n\n\nWe are looking forward to welcome you at the Adam Mickiewicz University\, Poznań!
URL:https://archive.epicur.education/event/student-conference/
CATEGORIES:EPICUR events
ATTACH;FMTTYPE=image/jpeg:https://archive.epicur.education/wp-content/uploads/2020/07/69990466_1443964335760676_2226329875935920128_o.jpg
END:VEVENT
BEGIN:VEVENT
DTSTART;TZID=Europe/Paris:20200715T140000
DTEND;TZID=Europe/Paris:20200715T163000
DTSTAMP:20260421T071823
CREATED:20200630T100026Z
LAST-MODIFIED:20201029T104540Z
UID:1183-1594821600-1594830600@archive.epicur.education
SUMMARY:EPICUR Student Board Webinar
DESCRIPTION:„Let’s Become a European University!“\n\n\nThe EPICUR Student Board is organising its first webinar in order to actively engage students in discussions about European Universities in general\, and the EPICUR network explicitly. \nWe want to learn more about your thoughts and expectations on and for such networks. \nFurthermore\, we also want to know what students think about certain projects that EPICUR is currently working on. \nThe webinar requires no prior knowledge of the project or the European Universities Initiative in general. We are looking forward to all students interested in shaping the future physical and virtual campus experience. \nWith: Michel Deneken\, President of EPICUR\, University of Strasbourg and EPICUR project staff. \nProgram: \n\nPresentation of EPICUR\nBreak-out-Session\n\nMobility\nProgram/Study Track Design\nWhat is a (European) University about?\n\n\nConclusion\n\nFor interested students from all eight partner universities. Open to the public.Please sign up via the registration form in order to attend. \n\n\n\n\n\n\n\n\nLegal information:  \n\n\n\nAs part of EPICUR events in order to disseminate information about the EPICUR European University\, the EPICUR Student Board organises a Webinar on European universities. Unistra\, represented by its president currenly in office\, as data controller\, provides you with the following information: \n\n\n\nA Data Protection Officer has been appointed who can be contacted at the address: \n\n\n\nUniversité de StrasbourgDirection du numérique de l’Université de Strasbourg14 rue René Descartes CS 9003267081 Strasbourg cedex \n\n\n\nMail: dpo[at]unistra[dot]fr \n\n\n\nYour personal data will be used in order to inform you about other ongoing EPICUR events within the next three years. The data will be kept for three years from the end of the webinar. Should EPICUR carry out further processing of personal data for a purpose other than that for which the personal data were collected\, EPICUR will provide you with information about this other purpose and any other legal information beforehand. \n\n\n\nBy registering\, you accept the data policy.
URL:https://archive.epicur.education/event/student-webinar/
LOCATION:Online live webinar
CATEGORIES:EPICUR events
ATTACH;FMTTYPE=image/jpeg:https://archive.epicur.education/wp-content/uploads/2020/06/20181204_EP-080755A_DHO_108_RESIZED_M-e1593510423991.jpg
ORGANIZER;CN="EPICUR%20student%20board":MAILTO:contact@epicur.education
END:VEVENT
END:VCALENDAR