BEGIN:VCALENDAR
VERSION:2.0
PRODID:-//EPICUR - ECPv5.9.1//NONSGML v1.0//EN
CALSCALE:GREGORIAN
METHOD:PUBLISH
X-WR-CALNAME:EPICUR
X-ORIGINAL-URL:https://archive.epicur.education
X-WR-CALDESC:Events for EPICUR
BEGIN:VTIMEZONE
TZID:Europe/Paris
BEGIN:DAYLIGHT
TZOFFSETFROM:+0100
TZOFFSETTO:+0200
TZNAME:CEST
DTSTART:20220327T010000
END:DAYLIGHT
BEGIN:STANDARD
TZOFFSETFROM:+0200
TZOFFSETTO:+0100
TZNAME:CET
DTSTART:20221030T010000
END:STANDARD
BEGIN:DAYLIGHT
TZOFFSETFROM:+0100
TZOFFSETTO:+0200
TZNAME:CEST
DTSTART:20230326T010000
END:DAYLIGHT
BEGIN:STANDARD
TZOFFSETFROM:+0200
TZOFFSETTO:+0100
TZNAME:CET
DTSTART:20231029T010000
END:STANDARD
END:VTIMEZONE
BEGIN:VEVENT
DTSTART;TZID=Europe/Paris:20220906T123000
DTEND;TZID=Europe/Paris:20220906T133000
DTSTAMP:20260421T063428
CREATED:20220825T133014Z
LAST-MODIFIED:20220906T110823Z
UID:18225-1662467400-1662471000@archive.epicur.education
SUMMARY:EPICUR Courses\, 1st semester 2022/23. Info session
DESCRIPTION:For the first semester of the next academic year 2022/23\, we still have places available. A new application period is open from August 24 until the  September 18\, 2022. \n\n\n\nIn order to help students in the application process and to inform in detail about the different courses and pathways\, we invite you to attend the information session on 6 September at 12.30 CET in the presence of professors from our different universities. This session will allow current and prospective students to discuss the content\, different formats\, the organisation and type of examinations in the context of EPICUR course offerings. \n\n\n\n\nInfo Session ↗
URL:https://archive.epicur.education/event/epicur-courses-1st-semester-2022-23-info-session/
CATEGORIES:EPICUR events
ATTACH;FMTTYPE=image/png:https://archive.epicur.education/wp-content/uploads/2022/08/Screenshot-2022-08-25-at-15-24-10-Last-chance-to-register-to-EPICUR-courses-for-the-1st-Semester-2022-2023-EPICUR.png
END:VEVENT
BEGIN:VEVENT
DTSTART;TZID=Europe/Paris:20220914T160000
DTEND;TZID=Europe/Paris:20220916T170000
DTSTAMP:20260421T063428
CREATED:20220718T065021Z
LAST-MODIFIED:20220908T135430Z
UID:17708-1663171200-1663347600@archive.epicur.education
SUMMARY:EPICUR FORUM 2022 - Save the Date: September 14-16\, 2022 at the University of Freiburg
DESCRIPTION:EPICUR – European Partnership for an Innovative Campus Unifying Regions – and the University of Freiburg cordially invite you to the:  \n\n\n\nEPICUR Forum 2022 “Building a European University: Experiences\, Successes and Transitions”University of Freiburg\, Fahnenbergplatz\, 79085 Freiburg im Breisgau.Physical Event \n\n\n\nWe are aiming to organise this event physically and are cordially inviting you to beautiful Freiburg. For some program points\, such as the official welcome and Keynote speech\, we are planning to allow hybrid participation opportunities.  \n\n\n\nWe are looking forward to your participation! \n\n\n\nDuring this three-day event we are happy to offer you e.g. a Science Slam (Sept. 14th)\, interesting Keynote speeches\, panels\, plenaries\, workshops and a festive dinner at one of Freiburg´s historic sites (Sept. 15th)\, as well as meetings for the Steering Committee\, Advisory Board and Student Board on Friday (Sept. 16th). You will have the opportunity to get to know our beautiful city\, explore the different University campuses and buildings and to network with people involved and interested in EPICUR from all over Europe and beyond! \n\n\n\nPlease register until August 26th! (deadline extended)\n\n\n\nThe event is open to all EPICUR staff\, EPICUR students\, partners\, stakeholders and everyone involved in EPICUR but we are also very much looking forward to welcome anyone interested in EPICUR (students\, teachers\, stakeholders\, politicians\, interested parties from NGO´s\, Start-ups\, civil society\, other EUAs etc.) to this great event. \n\n\n\nTo register\, please use this link: https://forms.office.com/r/W2DrtBEEC9 \n\n\n\n\n\nAccess the detailed programme here \n\n\n\n\n\nMore information to follow soon \n\n\n\nYou will receive further information in the following weeks.  \n\n\n\nIf you have any questions\, please contact: epicur_forum_22@mail.uni-freiburg.de 
URL:https://archive.epicur.education/event/epicur-forum-save-the-date-september-14-16-2022-university-of-friburg/
CATEGORIES:EPICUR events,European events
ATTACH;FMTTYPE=image/png:https://archive.epicur.education/wp-content/uploads/2022/07/EPICUR_FORUM_2022Final.png
END:VEVENT
BEGIN:VEVENT
DTSTART;TZID=Europe/Paris:20221206T170000
DTEND;TZID=Europe/Paris:20221206T180000
DTSTAMP:20260421T063428
CREATED:20221128T134906Z
LAST-MODIFIED:20221128T141122Z
UID:21223-1670346000-1670349600@archive.epicur.education
SUMMARY:Spring Semester courses. Info session
DESCRIPTION:From 28 November to 16 December\, all students from the 9 EPICUR universities will be able to register for the courses offered for the Spring semester 2023. \n\n\n\nIn order to help you in the application process and to inform in detail about the different courses and pathways\, we invite you to attend the information session on 6 december at 5pm (CET) CET in the presence of people in charge of training and courses and the persons in charge of registration on the EPICUR Virtual Campus. \n\n\n\nThis session will allow current and prospective students to discuss how to apply\, different formats\, and the organisation in the context of EPICUR course offerings. \n\n\n\n\nZoom link ↗
URL:https://archive.epicur.education/event/spring-semester-courses-info-session/
CATEGORIES:EPICUR events
ATTACH;FMTTYPE=image/png:https://archive.epicur.education/wp-content/uploads/2022/11/MicrosoftTeams-image-1.png
END:VEVENT
BEGIN:VEVENT
DTSTART;TZID=Europe/Paris:20221212T140000
DTEND;TZID=Europe/Paris:20221212T150000
DTSTAMP:20260421T063428
CREATED:20221201T110203Z
LAST-MODIFIED:20221201T110733Z
UID:21316-1670853600-1670857200@archive.epicur.education
SUMMARY:EPICluster Info session
DESCRIPTION:Are you an early career researcher considering applying for an EPICluster mobility grant? If yes\, come join us for this info session!  \n\n\n\nThis informational session aims to explain the concept and application procedure of the EPICluster to interested Early Career Researchers (ECRs)\, including PhD students\, junior professors\, Postdocs\, junior group leaders through assistant professors\, who are planning to apply for an EPICluster. ECRs will have the opportunity to run research projects with the benefits of both mobility funding and institutional support provided through EPICUR.  \n\n\n\nBrief program overview:   \n\n\n\nEPIClusters offer tailor-made experiences at one of the partner universities for researchers from both academic and non-academia and serve as a network for scientific exploration and ideas spanning the alliance. Each EPICluster will gather at least 5 early career researchers and non-university professionals in residence at one of the EPICUR-Research partner universities for a 1-to-6-month residency for research\, creation\, and experimentation.  \n\n\n\nThe Call for Applications is open to groups of a minimum of 5 early career researchers. Applicants must come from at least 3 different EPICUR universities. Applications are accepted from all scientific disciplines addressing one or more EPIChallenges.  \n\n\n\nGrants offered through this program will support early career researcher mobility with up to 150\,000 €.   \n\n\n\nThe University of Strasbourg (UNISTRA) and Adam Mickiewicz University\, Poznan (AMU) will welcome EPICluster participants in residence for the 2023 Call for Applications.  \n\n\n\nRegister in advance for this meeting:  \n\n\n\n\nZoom register link\n\n\n\n\nAfter registering\, you will receive a confirmation email containing information about joining the meeting. 
URL:https://archive.epicur.education/event/epicluster-info-session/
CATEGORIES:EPICUR events,European events
ATTACH;FMTTYPE=image/jpeg:https://archive.epicur.education/wp-content/uploads/2022/11/AdobeStock_207627859-scaled.jpeg
END:VEVENT
BEGIN:VEVENT
DTSTART;TZID=Europe/Paris:20230320T150000
DTEND;TZID=Europe/Paris:20230322T150000
DTSTAMP:20260421T063428
CREATED:20230309T140242Z
LAST-MODIFIED:20230309T140246Z
UID:21835-1679324400-1679497200@archive.epicur.education
SUMMARY:EPIC Missions 23/24: Call for Stakeholders Infosessions
DESCRIPTION:From March 09th until March 31st\, 2023\, external stakeholders from all across Europe are invited to apply through the Call for Stakeholders to be featured in the EPIC Missions 2023/2024. \n\n\n\nIn order to help you in the application process and to inform you in detail about the different challenge areas\, the concept of EPIC Missions and the timeline\, we invite you to attend our information sessions (online) on March 20\, 21 and 22\, 2023 at 03.00 pm (CET). \n\n\n\nWe are looking forward to seeing you there! \n\n\n\n\nzoom link
URL:https://archive.epicur.education/event/epic-missions-23-24-call-for-stakeholders-infosessions/
ATTACH;FMTTYPE=image/png:https://archive.epicur.education/wp-content/uploads/2023/03/infosession_Epicmission23.png
END:VEVENT
BEGIN:VEVENT
DTSTART;TZID=Europe/Paris:20230417T150000
DTEND;TZID=Europe/Paris:20230417T160000
DTSTAMP:20260421T063428
CREATED:20230406T124713Z
LAST-MODIFIED:20230417T090929Z
UID:21954-1681743600-1681747200@archive.epicur.education
SUMMARY:EPICUR Call for Course Proposals 2023/24: Info session for teachers
DESCRIPTION:This information session aims to explain the concrete steps to propose a course\, the selection process\, feedback from teachers and students who have participated in these courses\, and answer any questions you may have. \n\n\n\nYou can join the session by logging on to the EPICUR Campus or by finding the Zoom link here (Code: EPICUR2023) \n\n\n\nFor our 2023-2024 offerings\, we particularly welcome course proposals that take an innovative approach to teaching by integrating multiple fields of study and fostering collaboration among students. Ideal courses for EPICUR help students acquire competencies to tackle real-world problems. Courses might engage students in: \n\n\n\nhands-on\, project- and challenge-based learning developing the ability to communicate clearly across borders and cultures\, and acquiring transversal skills that can be applied across disciplines\n\n\n\nWith this call for course proposals\, we invite instructors at the EPICUR partner institutions to propose courses by April 27th\, 2023. \n\n\n\n\nCall for Course Proposals 2023/24
URL:https://archive.epicur.education/event/epicur-call-for-course-proposals-2023-24-info-session-for-teachers/
CATEGORIES:EPICUR events
ATTACH;FMTTYPE=image/png:https://archive.epicur.education/wp-content/uploads/2023/04/MicrosoftTeams-image.png
END:VEVENT
BEGIN:VEVENT
DTSTART;TZID=Europe/Paris:20230531T000000
DTEND;TZID=Europe/Paris:20230603T235959
DTSTAMP:20260421T063428
CREATED:20230531T130019Z
LAST-MODIFIED:20230531T130022Z
UID:22185-1685491200-1685836799@archive.epicur.education
SUMMARY:ESA’s second edition held at the European Parliament in Strasbourg
DESCRIPTION:From 31 May to 3 June 2023\, the second European Student Assembly (ESA23) is taking place in the European Parliament in Strasbourg. An initiative led by the Alps university of Grenoble and the University of Strasbourg in partnership with CY Cergy Paris University. Following the first edition\, 89 policy recommendations emanated from this assembly and were transmitted to European decision-makers.  
URL:https://archive.epicur.education/event/esas-second-edition-held-at-the-european-parliament-in-strasbourg/
LOCATION:European Parliament\, All. du Printemps\, Strabourg\, France
END:VEVENT
END:VCALENDAR