BEGIN:VCALENDAR
VERSION:2.0
PRODID:-//EPICUR - ECPv5.9.1//NONSGML v1.0//EN
CALSCALE:GREGORIAN
METHOD:PUBLISH
X-WR-CALNAME:EPICUR
X-ORIGINAL-URL:https://archive.epicur.education
X-WR-CALDESC:Events for EPICUR
BEGIN:VTIMEZONE
TZID:Europe/Paris
BEGIN:DAYLIGHT
TZOFFSETFROM:+0100
TZOFFSETTO:+0200
TZNAME:CEST
DTSTART:20220327T010000
END:DAYLIGHT
BEGIN:STANDARD
TZOFFSETFROM:+0200
TZOFFSETTO:+0100
TZNAME:CET
DTSTART:20221030T010000
END:STANDARD
END:VTIMEZONE
BEGIN:VEVENT
DTSTART;TZID=Europe/Paris:20220906T123000
DTEND;TZID=Europe/Paris:20220906T133000
DTSTAMP:20260421T063004
CREATED:20220825T133014Z
LAST-MODIFIED:20220906T110823Z
UID:18225-1662467400-1662471000@archive.epicur.education
SUMMARY:EPICUR Courses\, 1st semester 2022/23. Info session
DESCRIPTION:For the first semester of the next academic year 2022/23\, we still have places available. A new application period is open from August 24 until the  September 18\, 2022. \n\n\n\nIn order to help students in the application process and to inform in detail about the different courses and pathways\, we invite you to attend the information session on 6 September at 12.30 CET in the presence of professors from our different universities. This session will allow current and prospective students to discuss the content\, different formats\, the organisation and type of examinations in the context of EPICUR course offerings. \n\n\n\n\nInfo Session ↗
URL:https://archive.epicur.education/event/epicur-courses-1st-semester-2022-23-info-session/
CATEGORIES:EPICUR events
ATTACH;FMTTYPE=image/png:https://archive.epicur.education/wp-content/uploads/2022/08/Screenshot-2022-08-25-at-15-24-10-Last-chance-to-register-to-EPICUR-courses-for-the-1st-Semester-2022-2023-EPICUR.png
END:VEVENT
END:VCALENDAR