BEGIN:VCALENDAR
VERSION:2.0
PRODID:-//EPICUR - ECPv5.9.1//NONSGML v1.0//EN
CALSCALE:GREGORIAN
METHOD:PUBLISH
X-WR-CALNAME:EPICUR
X-ORIGINAL-URL:https://archive.epicur.education
X-WR-CALDESC:Events for EPICUR
BEGIN:VTIMEZONE
TZID:Europe/Paris
BEGIN:DAYLIGHT
TZOFFSETFROM:+0100
TZOFFSETTO:+0200
TZNAME:CEST
DTSTART:20220327T010000
END:DAYLIGHT
BEGIN:STANDARD
TZOFFSETFROM:+0200
TZOFFSETTO:+0100
TZNAME:CET
DTSTART:20221030T010000
END:STANDARD
END:VTIMEZONE
BEGIN:VEVENT
DTSTART;TZID=Europe/Paris:20220506T161500
DTEND;TZID=Europe/Paris:20220506T174500
DTSTAMP:20260423T103620
CREATED:20220505T134247Z
LAST-MODIFIED:20220505T151432Z
UID:16370-1651853700-1651859100@archive.epicur.education
SUMMARY:EPICUR Info Session/Launch Event European Tracks
DESCRIPTION:The EPICUR Freiburg Team cordially invites you to an information session/launch event for the European Tracks on May 06th\, 2022 at 04.15pm (CET) at the University of Freiburg (UCF\, Max-Kade-Auditorium). The event will be livestreamed for everyone interested! \n\n\n\nAdd a European component to your studies with EPICUR! – How does that work? EPICUR\, the European University Alliance\, offers numerous opportunities for students to add courses to their curricula in the areas of sustainability\, European Identities\, language & culture and many more. The current course catalogue for the upcoming fall/winter semester 2022/23 is now online and interested students can sign up for courses from May 16 onwards. For all those who are interested and want to know more about the courses\, the European Tracks and other opportunities in EPICUR education\, the EPICUR Freiburg team is offering an info session this Friday\, 06 May in the Max-Kade Auditorium 1 at University College Freiburg at 04:15pm (CEST). We cordially invite interested students\, but also programme coordinators\, potential multipliers as well as potential EPIC Mission stakeholders and the interested public. The event will be live-streamed for interested people outside of Freiburg or people who cannot attend in person.  \n\n\n\nMore info sessions will follow in the course of the next weeks (online). \n\n\n\nMore information \n\n\n\nJoin the infosession via livestream here:  \n\n\n\n\nLivestream
URL:https://archive.epicur.education/event/epicur-info-session-launch-event-european-tracks/
CATEGORIES:EPICUR events,European events
ATTACH;FMTTYPE=image/png:https://archive.epicur.education/wp-content/uploads/2022/05/MicrosoftTeams-image-25.png
END:VEVENT
END:VCALENDAR