BEGIN:VCALENDAR
VERSION:2.0
PRODID:-//EPICUR - ECPv5.9.1//NONSGML v1.0//EN
CALSCALE:GREGORIAN
METHOD:PUBLISH
X-WR-CALNAME:EPICUR
X-ORIGINAL-URL:https://archive.epicur.education
X-WR-CALDESC:Events for EPICUR
BEGIN:VTIMEZONE
TZID:Europe/Paris
BEGIN:DAYLIGHT
TZOFFSETFROM:+0100
TZOFFSETTO:+0200
TZNAME:CEST
DTSTART:20220327T010000
END:DAYLIGHT
BEGIN:STANDARD
TZOFFSETFROM:+0200
TZOFFSETTO:+0100
TZNAME:CET
DTSTART:20221030T010000
END:STANDARD
END:VTIMEZONE
BEGIN:VEVENT
DTSTART;TZID=Europe/Paris:20220412T080000
DTEND;TZID=Europe/Paris:20220412T170000
DTSTAMP:20260421T165614
CREATED:20220308T140054Z
LAST-MODIFIED:20220308T140056Z
UID:14857-1649750400-1649782800@archive.epicur.education
SUMMARY:KTUR-Innovation Day Upper Rhine on April 12 in Strasbourg.
DESCRIPTION:The INTERREG project KTUR – Knowledge Transfer Upper Rhine invites you to the Innovation Day Upper Rhine on April 12. Held in Strasbourg and online\, this exceptional event is organized by 12 universities in synergy with investment bank Bpifrance’s Deeptechtour to share ideas about the transfer of knowledge and technology in the Upper Rhine valley. Are you passionate about deeptech and health innovation? Are you interested in sustainable development and digital and industrial transition? Then Innovation Day is made for you!On the agenda:• 3 plenaries and 15 workshops with renowned speakers from France\, Germany and Switzerland• 3 “Walks of the Best” showcasing award-winning start-ups from the trinational region• The opportunity to network and arrange business meetings with potential project partners.The event is aimed at companies\, researchers\, entrepreneurs as well as students and doctoral candidates.  \n\n\n\nThe programme is available here and you can register using this link: https://ktur2022.b2match.io/
URL:https://archive.epicur.education/event/ktur-innovation-day-upper-rhine-on-april-12-in-strasbourg/
CATEGORIES:European events,National and local events
ATTACH;FMTTYPE=image/png:https://archive.epicur.education/wp-content/uploads/2022/03/BANNIERE-KTUR_RS_POST_1024x512.png
END:VEVENT
BEGIN:VEVENT
DTSTART;TZID=Europe/Paris:20220412T140000
DTEND;TZID=Europe/Paris:20220412T190000
DTSTAMP:20260421T165614
CREATED:20220407T122550Z
LAST-MODIFIED:20220407T133128Z
UID:15804-1649772000-1649790000@archive.epicur.education
SUMMARY:European university alliances\, assets for the European research and higher education areas
DESCRIPTION:The European university alliances are at the crossroads of higher education\, research excellence and European cooperation. Laureats of the call for projects in 2019\, EU-CONEXUS and EPICUR will be used as examples to demonstrate the contribution of European university alliances to:  \nthe convergence of the European Research Area and the European Higher Education Areathe strengthening of collaboration and mobility between different areas of the Union.\nThis event will also address the positive impact of European university alliances at the local level. The seminar is organised by the University of Strasbourg\, in partnership with the European Science Foundation and EuroScience. \nDate and place12 April 2022 | 15:00 – 19:00 Amphitheatre Carré de Malberg\, Faculté de droit\, 1 place d’Athènes\, 67 000 Strasbourg \nProgramme \n15:00 – 15:10 \n  OpeningProf. Dr. Michel DENEKEN | President of the University of Strasbourg\, Chair of the EPICUR Alliance 15:10 – 15:30 \n  Keynote Role of research\, mobility and networking: key challenges for European university alliances Prof. Dr. Alain BERETZ | President of the European Cooperation in Science and Technology (COST) 15:30 – 16:40 \n  Round-table (1/2)European university alliances: challenges of associating both higher education and research What is the added value of the European university alliances to European research? How can European university alliances develop collaborative responses in education and research? \nModeration Prof. Dr. Michael MATLOSZ | President of EuroScience \nSpeakers Prof. Dr. Michel DENEKEN | President of the University of Strasbourg\, Chair of the EPICUR Alliance Prof. Dr. Karen MAEX | Rector of the University of Amsterdam\, President of the League of European Research Universities (LERU)\, member of the Steering Committee of the EPICUR AllianceMr Jean-Eric PAQUET | Director General for Research and Innovation of the European Commission (DG RTD)Prof. Dr. Marc SCHILTZ | President of Science Europe\, Secretary General of the National Research Fund of LuxembourgMs Barbara WEITGRUBER | Director general for scientific research and international relations at the Austrian Ministry of Education\, Science and Research\, co-chair of the European Research Area and Innovation Committee (ERAC) 16:40 – 17:10 \n  Coffee break  17:10 – 18:20 \n  Round table (2/2)European university alliances: new vectors for mobility and networking How do European university alliances offer new opportunities for mobility of students\, researchers\, and staff? How do European university alliances contribute to networking of scientific communities and geographical regions in education\, research and innovation?Moderation Prof. Dr. Véronique HALLOIN | President of the European Science FoundationSpeakersMs Vanessa DEBIAIS-SAINTON | Head of the Higher Education Unit at the European Commission (DG EAC)\, member of the Bologna Follow-Up Group (BFUG)Ms Astrid HANNES | project manager at the European Regions Research and Innovation NetworkMs Nina HOL | Member of the student board of the EPICUR Alliance\, student at the University of AmsterdamProf. Dr. Bogumiła KANIEWSKA | rector of the Adam-Mickiewicz University in Poznań\, member of the Steering Committee of the EPICUR AllianceProf. Dr. Jean-Marc OGIER | President of the La Rochelle Université and Chair of the European University EU-CONEXUSMs Mateja ROBIČ | member of Higher Education Division of the Slovenian Ministry of Education\, Science and Sport 18:20 – 19:00 \n  Take-home messages and final exchanges \nParticipantsProf. Dr. Alain BERETZ | President of the European Cooperation in Science and Technology (COST) Ms Claire GIRY | Director General for Research and Innovation of the French Ministry of Higher Education\, Research and Innovation Prof. Dr. Véronique HALLOIN | President of the European Science Foundation Prof. Dr. Michael MATLOSZ\, President of EuroScience Prof. Dr. Jean-Marc PLANEIX\, Vice-President for Academic partnerships and governance of the University of Strasbourg\, strategic coordinator of the EPICUR Alliance
URL:https://archive.epicur.education/event/european-university-alliances-assets-for-the-european-research-and-higher-education-areas/
CATEGORIES:EPICUR events,European events
ATTACH;FMTTYPE=image/png:https://archive.epicur.education/wp-content/uploads/2022/04/EUdef.png
END:VEVENT
END:VCALENDAR