BEGIN:VCALENDAR
VERSION:2.0
PRODID:-//EPICUR - ECPv5.9.1//NONSGML v1.0//EN
CALSCALE:GREGORIAN
METHOD:PUBLISH
X-WR-CALNAME:EPICUR
X-ORIGINAL-URL:https://archive.epicur.education
X-WR-CALDESC:Events for EPICUR
BEGIN:VTIMEZONE
TZID:Europe/Paris
BEGIN:DAYLIGHT
TZOFFSETFROM:+0100
TZOFFSETTO:+0200
TZNAME:CEST
DTSTART:20220327T010000
END:DAYLIGHT
BEGIN:STANDARD
TZOFFSETFROM:+0200
TZOFFSETTO:+0100
TZNAME:CET
DTSTART:20221030T010000
END:STANDARD
END:VTIMEZONE
BEGIN:VEVENT
DTSTART;TZID=Europe/Paris:20220407T150000
DTEND;TZID=Europe/Paris:20220407T160000
DTSTAMP:20260421T165614
CREATED:20220331T100137Z
LAST-MODIFIED:20220331T114416Z
UID:15640-1649343600-1649347200@archive.epicur.education
SUMMARY:EPICradle Info Session (online) April 07\, 2022
DESCRIPTION:Info Session online on zoom \n\n\n\nDid you attend one of our EPICamps and are now wondering what the next step on the “EPICUR Pathway to Research” – the EPICradle looks like? Are you an Early Career Researcher considering applying for an EPICradle fellowship in the current Application phase until April 15\, 2022? If yes\, come join us for this info session! \n\n\n\nThis informational session aims to explain the concept and application procedure of the EPICradle to interested Early Career Researchers (ECRs)\, including PhD students\, junior professors\, Postdocs\, junior group leaders through assistant professors\, who are planning to apply for an EPICradle. ECRs will have the opportunity to create research projects with the benefits of both funding and institutional support provided through EPICUR. \n\n\n\nHard facts: EPICradles will take place over the course of three months between May and September 2022 and two groups of up to 5 researchers are chosen to work (both physically and virtually) on topics relating to the EPIChallenges (Sustainability\, Mobility/Migration/Identity\, and the transition of Public Health). There is no limit on the scientific profiles – researchers from all areas and disciplines are encouraged to participate. Participation in an EPICradle is open to Early Career Researchers of various stages\, BUT our funding (3.000€ individual stipend + 5.000€ group budget) is limited to Early Career Researchers who are within a 6 year range of their PhDs\, unless they can argue particular hardship (parenthood\, care responsibilities\, other personal reason). As such\, EPICradles are an opportunity to prepare a joint research proposal for the last step of the “EPICUR Pathway to Research”\, the EPIClusters\, offering up to 150.000 € to chosen research groups of ECRs. \n\n\n\nApplications for EPICradle are currently open until April 15th\, 2022 and must be submitted through the official application portal. \n\n\n\nIf you wish to join our Info session\, please join our zoom meeting here.
URL:https://archive.epicur.education/event/epicradle-info-session-online-april-07-2022/
CATEGORIES:EPICUR events
ATTACH;FMTTYPE=image/png:https://archive.epicur.education/wp-content/uploads/2022/03/EPICradles-Info-Session.png
END:VEVENT
END:VCALENDAR