BEGIN:VCALENDAR
VERSION:2.0
PRODID:-//EPICUR - ECPv5.9.1//NONSGML v1.0//EN
CALSCALE:GREGORIAN
METHOD:PUBLISH
X-WR-CALNAME:EPICUR
X-ORIGINAL-URL:https://archive.epicur.education
X-WR-CALDESC:Events for EPICUR
BEGIN:VTIMEZONE
TZID:Europe/Paris
BEGIN:DAYLIGHT
TZOFFSETFROM:+0100
TZOFFSETTO:+0200
TZNAME:CEST
DTSTART:20220327T010000
END:DAYLIGHT
BEGIN:STANDARD
TZOFFSETFROM:+0200
TZOFFSETTO:+0100
TZNAME:CET
DTSTART:20221030T010000
END:STANDARD
END:VTIMEZONE
BEGIN:VEVENT
DTSTART;TZID=Europe/Paris:20220406T130000
DTEND;TZID=Europe/Paris:20220406T143000
DTSTAMP:20260421T165614
CREATED:20220318T100507Z
LAST-MODIFIED:20220318T100511Z
UID:15242-1649250000-1649255400@archive.epicur.education
SUMMARY:Connecting European Entrepreneurial Ecosystems / Workshop 06.04.2022. INVITATION
DESCRIPTION:EPICUR is a vital hub for various research\, education\, and innovation initiatives. As a European international consortium of nine partner universities\, we aim to connect European institutions\, provide student and staff mobility options\, and develop effective and innovative frameworks for collaborations and knowledge exchange. \n\n\n\nIn our second workshop on connecting entrepreneurial ecosystems\, we aim to discuss options to develop an international forum on sustainability with EPICUR student associations\, EPICUR university members\, and experts on sustainability\, climate\, and environmental change. \n\n\n\nWe\, therefore\, invite interested participants to join us in our participatory event development workshop to create a programme with impactful outreach and value for people and the planet. \n\n\n\nZOOM Event: \n\n\n\n\nRegistration\n\n\n\n\nFor further questions\, please contact Alexander Tittel (alexander.tittel@kit.edu) EPICUR WP5.2 Task Leader
URL:https://archive.epicur.education/event/connecting-european-entrepreneurial-ecosystems-workshop-06-04-2022-invitation/
CATEGORIES:EPICUR events
ATTACH;FMTTYPE=image/png:https://archive.epicur.education/wp-content/uploads/2022/03/MicrosoftTeams-image.png
END:VEVENT
END:VCALENDAR