BEGIN:VCALENDAR
VERSION:2.0
PRODID:-//EPICUR - ECPv5.9.1//NONSGML v1.0//EN
CALSCALE:GREGORIAN
METHOD:PUBLISH
X-WR-CALNAME:EPICUR
X-ORIGINAL-URL:https://archive.epicur.education
X-WR-CALDESC:Events for EPICUR
BEGIN:VTIMEZONE
TZID:Europe/Paris
BEGIN:DAYLIGHT
TZOFFSETFROM:+0100
TZOFFSETTO:+0200
TZNAME:CEST
DTSTART:20220327T010000
END:DAYLIGHT
BEGIN:STANDARD
TZOFFSETFROM:+0200
TZOFFSETTO:+0100
TZNAME:CET
DTSTART:20221030T010000
END:STANDARD
END:VTIMEZONE
BEGIN:VEVENT
DTSTART;TZID=Europe/Paris:20220309T150000
DTEND;TZID=Europe/Paris:20220309T160000
DTSTAMP:20260421T185136
CREATED:20220223T143323Z
LAST-MODIFIED:20220307T104954Z
UID:14748-1646838000-1646841600@archive.epicur.education
SUMMARY:EPICUR course proposals. Info session for teachers - Focus: European identities
DESCRIPTION:This information session aims to explain the concrete steps to propose a course\, the selection process\, feedback from teachers and students who have participated in these courses\, the content of the European identites and answer any questions you may have. \n\n\n\nYou can join the session by logging on to the EPICUR Campus or  by finding the Zoom link here \n\n\n\nFor our 2022-2023 offerings\, we particularly welcome course proposals that enable students to complete a European Track. These include: \n\n\n\nInteractive\, engaging\, and student-centered courses in Natural and Societal Sustainability\, preferably pertaining to one or more of the following pilot challenge areasInteractive\, engaging\, and student-centered courses in European Identities\, preferably pertaining to one or more of the following pilot challenge areaInteractive\, engaging\, and student-centered courses fostering Key Competences\n\n\n\nWith this call for course proposals\, we invite instructors at the EPICUR partner institutions to propose courses that would fit one of our three pilot themes by 21 March 2022.
URL:https://archive.epicur.education/event/epicur-course-proposals-info-session-for-teachers-focus-european-identities/
CATEGORIES:EPICUR events,National and local events
ATTACH;FMTTYPE=image/png:https://archive.epicur.education/wp-content/uploads/2022/02/IFei.png
END:VEVENT
END:VCALENDAR