BEGIN:VCALENDAR
VERSION:2.0
PRODID:-//EPICUR - ECPv5.9.1//NONSGML v1.0//EN
CALSCALE:GREGORIAN
METHOD:PUBLISH
X-WR-CALNAME:EPICUR
X-ORIGINAL-URL:https://archive.epicur.education
X-WR-CALDESC:Events for EPICUR
BEGIN:VTIMEZONE
TZID:Europe/Paris
BEGIN:DAYLIGHT
TZOFFSETFROM:+0100
TZOFFSETTO:+0200
TZNAME:CEST
DTSTART:20210328T010000
END:DAYLIGHT
BEGIN:STANDARD
TZOFFSETFROM:+0200
TZOFFSETTO:+0100
TZNAME:CET
DTSTART:20211031T010000
END:STANDARD
END:VTIMEZONE
BEGIN:VEVENT
DTSTART;TZID=Europe/Paris:20211202T080000
DTEND;TZID=Europe/Paris:20211203T170000
DTSTAMP:20260422T003424
CREATED:20211021T082950Z
LAST-MODIFIED:20211126T103241Z
UID:11839-1638432000-1638550800@archive.epicur.education
SUMMARY:2nd EPICamp "Sustainability\, material use and climate justice"
DESCRIPTION:In order to tackle the climate crisis and to enable a sustainability transformation\, we need to recognize planetary boundaries and adapt our demand accordingly while considering intra- and intergenerational justice. A sustainability transition is required\, away from fossil fuel use towards a circular bioeconomy\, where limited resources such as land and raw materials are used carefully and in a way that intra- and intergenerational justice at multiple social and spatial scales is assured. The resulting societies\, and their production and consumption patterns\, are envisioned to rest on renewable resources (biomass\, wind\, solar\, hydro\, etc.) and on non-renewables (like metals or sand) that are used only in a circular manner and within planetary boundaries. But this transition entails changed resource requirements potentially resulting in new sustainability concerns regarding the expected additional pressure on land ecosystems (for biomass production as well as surface area for conservation or infrastructure etc.) which are already in competition with provisioning for agricultural\, forestry\, infrastructural\, and settlement needs\, as well as competing with challenges of biodiversity conservation and human well-being more broadly. \nQuestions arise not only about how such a transition can be achieved\, but also which justice implications are entailed to different societal groups. \nTraditionally\, large scale transformation scenario modelling has paid little attention to equity and justice questions at the national and\, in particular\, the sub-national scale. Here\, strong commitments to rapidly curb greenhouse gas emissions by transitioning to a decarbonized economy meet with local efforts to address the impacts of climate change. Consequently\, climate action needs to be tackled in accordance with resource use (energy\, materials\, land) and socio-economic drivers accounting for regionally and internationally specific justice concerns. \n \n \n \n\n\n\nGet access to the programme\n\n\n\nList of keywords and sub-themes:\n \n\nSocial metabolism as key to understand the material and energy underpinnings of sustainability\nLand-use changes within planetary boundaries that support a bioeconomy\nClimate change and climate justice: inter- and intragenerational perspectives\nMaterial wealth\, services\, sufficiency\, and equity\nEcosystem impact of human activities incl. climate change\nEnergy and sustainability transitions\nTrade and teleconnections in the course of sustainability transformations\nSustainable agriculture and forestry\, incl. agroforestry\nAfforestation and Reforestation of marginal lands\nThe role of agriculture and forestry combating climate change \nSupporting biodiversity conservation and ‘non-material’ human well-being in context of conflicting demands on land\n\n \nEarly career researchers\n \nPotential participants of the EPICamps should have a general interest in conducting interdisciplinary research and/or working in a transdisciplinary manner with non-university partners. You should have a proven interest in the topic of the EPICamps you wish to attend. However\, no previous experience in the field and/or inter-and transdisciplinary work is required.  \n \nBased on the format of the barcamp/unconference\, the program of each EPICamp will look different and open up opportunities to present and discuss research and projects in mini-thesis presentations\, poster sessions\, panel or group discussions\, etc.\, but also space for ad-hoc meetings\, one-on-one video chats\, academic speed dating sessions and methodological exchange.  \n \nCall\n \nPlease check out our Call for Participation and follow us on twitter for regular updates on upcoming EPICamps regarding European Culture\, Sustainability and more.  Applications are due November 15. \n \nIf you have any questions\, please contact: epicur-research@mail.uni-freiburg.de
URL:https://archive.epicur.education/event/2nd-epicamp-sustainability-material-use-and-climate-justice/
CATEGORIES:EPICUR events,European events
ATTACH;FMTTYPE=image/png:https://archive.epicur.education/wp-content/uploads/2021/10/EpicampII.png
END:VEVENT
END:VCALENDAR