BEGIN:VCALENDAR
VERSION:2.0
PRODID:-//EPICUR - ECPv5.9.1//NONSGML v1.0//EN
CALSCALE:GREGORIAN
METHOD:PUBLISH
X-WR-CALNAME:EPICUR
X-ORIGINAL-URL:https://archive.epicur.education
X-WR-CALDESC:Events for EPICUR
BEGIN:VTIMEZONE
TZID:Europe/Paris
BEGIN:DAYLIGHT
TZOFFSETFROM:+0100
TZOFFSETTO:+0200
TZNAME:CEST
DTSTART:20210328T010000
END:DAYLIGHT
BEGIN:STANDARD
TZOFFSETFROM:+0200
TZOFFSETTO:+0100
TZNAME:CET
DTSTART:20211031T010000
END:STANDARD
END:VTIMEZONE
BEGIN:VEVENT
DTSTART;TZID=Europe/Paris:20210914T090000
DTEND;TZID=Europe/Paris:20210914T163000
DTSTAMP:20260422T061606
CREATED:20210825T103739Z
LAST-MODIFIED:20210825T113607Z
UID:9897-1631610000-1631637000@archive.epicur.education
SUMMARY:EPICURmaps - Invitation to a Prototype Validation Workshop
DESCRIPTION:Within EPICUR\, we took the challenge to develop a web-based solution that could be helpful for you and your organization! With EPICURmaps we aim to connect stakeholders from different European countries and foster collaboration\, entrepreneurial activities\, and innovation. \nThis exciting product is now in the prototype phase\, and we need your help to validate its functionalities\, features and requirements for a successful launch. For that\, you are warmly invited to our EPICURmaps Validation Workshop to help us with your feedback\, to improve our tool\, and become a part of the EPICUR network. \nAs a student\, entrepreneur\, or professional you can take the first steps towards our goal: connect with people from six European regions with a common interest: “Sustainable Entrepreneurship” and have the chance to expand your personal and professional network \nFind the schedule according to your role below and register to our online workshop on Sept. 14th! \n\nStudents: 09:00-10:30 CET (open for all fields of studies)\nEntrepreneurs: 13:00- 14:30 CET (Interest in Sustainable & Responsible Entrepreneurship)\nProfessionals: 15:00- 16:30 CET (e.g. HR/int. R&D\, Marketing/Network Management etc.)\n\n			\n						Click here to register\n					 \nRegistration is open until Sept. 10th 2021. For further questions\, please contact Alexander Tittel (alexander.tittel@kit.edu)
URL:https://archive.epicur.education/event/epicurmaps-invitation-to-a-prototype-validation-workshop/
CATEGORIES:EPICUR events,European events
ATTACH;FMTTYPE=image/png:https://archive.epicur.education/wp-content/uploads/2021/08/Screenshot_2021-08-25-Questionnaire-page-1.png
END:VEVENT
END:VCALENDAR