BEGIN:VCALENDAR
VERSION:2.0
PRODID:-//EPICUR - ECPv5.9.1//NONSGML v1.0//EN
CALSCALE:GREGORIAN
METHOD:PUBLISH
X-WR-CALNAME:EPICUR
X-ORIGINAL-URL:https://archive.epicur.education
X-WR-CALDESC:Events for EPICUR
BEGIN:VTIMEZONE
TZID:Europe/Paris
BEGIN:DAYLIGHT
TZOFFSETFROM:+0100
TZOFFSETTO:+0200
TZNAME:CEST
DTSTART:20210328T010000
END:DAYLIGHT
BEGIN:STANDARD
TZOFFSETFROM:+0200
TZOFFSETTO:+0100
TZNAME:CET
DTSTART:20211031T010000
END:STANDARD
END:VTIMEZONE
BEGIN:VEVENT
DTSTART;TZID=Europe/Paris:20210909T150000
DTEND;TZID=Europe/Paris:20210909T170000
DTSTAMP:20260422T061604
CREATED:20210727T114902Z
LAST-MODIFIED:20210727T115112Z
UID:6475-1631199600-1631206800@archive.epicur.education
SUMMARY:Launch of the EPICUR European Model Language Policy
DESCRIPTION:The language policy launch will be a hybrid event and will feature the “unboxing” of the EPICUR European Model Language Policy. The 9 September 15:00 CEST. \n\n\n\nAfter signing a joint statement on Multilingualism\, the EPICUR alliance has been working hard to develop the first-ever European model language policy for European universities which will be presented during a hybrid  event. \n\n\n\nThe launch event is open to all European universities and public institutions and will feature the “unboxing” of the EPICUR European Model Language Policy by EPICUR student and staff representatives. \n\n\n\nThe model language policy aims to offer a framework in which linguistic and cultural inclusiveness\, diversity and accessibility within higher education institutions is highlighted at both the institutional as the European universities alliance level. It also contains a range of best practices and examples from EPICUR universities and European universities alliances on the implementation and promotion of multilingualism in the fields of teaching & learning\, research\, governance and communication. \n\n\n\nThe University of Amsterdam is happy to host the launch event as the coordinating partner on the theme of Multilingualism & Inclusive Governance within the EPICUR alliance. The European model language policy will be made available on the EPICUR website during the launch event. You can register via this link\, if you wish to receive more information and an invitation to the launch event.
URL:https://archive.epicur.education/event/launch-of-the-epicur-european-model-language-policy/
CATEGORIES:EPICUR events,European events
ATTACH;FMTTYPE=image/png:https://archive.epicur.education/wp-content/uploads/2021/07/9-September-20215.png
END:VEVENT
END:VCALENDAR