BEGIN:VCALENDAR
VERSION:2.0
PRODID:-//EPICUR - ECPv5.9.1//NONSGML v1.0//EN
CALSCALE:GREGORIAN
METHOD:PUBLISH
X-WR-CALNAME:EPICUR
X-ORIGINAL-URL:https://archive.epicur.education
X-WR-CALDESC:Events for EPICUR
BEGIN:VTIMEZONE
TZID:Europe/Paris
BEGIN:DAYLIGHT
TZOFFSETFROM:+0100
TZOFFSETTO:+0200
TZNAME:CEST
DTSTART:20210328T010000
END:DAYLIGHT
BEGIN:STANDARD
TZOFFSETFROM:+0200
TZOFFSETTO:+0100
TZNAME:CET
DTSTART:20211031T010000
END:STANDARD
END:VTIMEZONE
BEGIN:VEVENT
DTSTART;TZID=Europe/Paris:20210908T130000
DTEND;TZID=Europe/Paris:20210908T143000
DTSTAMP:20260422T061609
CREATED:20210824T134810Z
LAST-MODIFIED:20210831T122840Z
UID:9827-1631106000-1631111400@archive.epicur.education
SUMMARY:EPICUR Internship Programme - info session
DESCRIPTION:Please register for the Info Session by Monday\, September 6th\, 2021 via email at internships-epicur@intl.kit.edu. \n\n\n\nAre you EPICurious to gain practical experiences abroad through an internship in an enterprise or in a civil society organisation?Are you looking for opportunities to broaden your horizons and improve your intercultural skills?Would you like to gain work experience in an international environment?Then the EPICUR Internship Exchange Programme might be right for you!\n\n\n\nWhat is it about?\n\n\n\nThe EPICUR Internship Exchange Programme is an EPICUR mobility programme offering advanced bachelor and master´s students the opportunity to complete a cross-border exchange in one of the 8 EPICUR universities’ locations*Participants from all degree programmes are welcome to apply (depending on the position requirements)Internships are offered at private enterprises as well as civil society organisations (to be completed as a civic engagement activity)Internships and civic engagement activities can be arranged on an individual basis between February and June 2022 with a minimum duration of 2 months\n\n\n\n* In the upcoming run\, internship positions are available in the regions of Karlsruhe\, Vienna\, Poznan\, Strasbourg and Thessaloniki. \n\n\n\nLearn more about the EPICUR Internship Exchange Programme and how to apply in the online information session taking place on September 8th from 13h00 – 14h30 (CET)! \n\n\n\nPlease register for the Info Session by Monday\, September 6th\, 2021 via email at internships-epicur@intl.kit.edu. \n\n\n\nPlease note that for the upcoming round positions will primarily be offered as physical internships. If required\, virtual internships may be possible in consultation with the providing organisations.
URL:https://archive.epicur.education/event/epicur-internship-exchange-programme-info-session/
CATEGORIES:EPICUR events
ATTACH;FMTTYPE=image/jpeg:https://archive.epicur.education/wp-content/uploads/2021/08/people-2557399_1920.jpg
END:VEVENT
END:VCALENDAR