BEGIN:VCALENDAR
VERSION:2.0
PRODID:-//EPICUR - ECPv5.9.1//NONSGML v1.0//EN
CALSCALE:GREGORIAN
METHOD:PUBLISH
X-WR-CALNAME:EPICUR
X-ORIGINAL-URL:https://archive.epicur.education
X-WR-CALDESC:Events for EPICUR
BEGIN:VTIMEZONE
TZID:Europe/Paris
BEGIN:DAYLIGHT
TZOFFSETFROM:+0100
TZOFFSETTO:+0200
TZNAME:CEST
DTSTART:20210328T010000
END:DAYLIGHT
BEGIN:STANDARD
TZOFFSETFROM:+0200
TZOFFSETTO:+0100
TZNAME:CET
DTSTART:20211031T010000
END:STANDARD
END:VTIMEZONE
BEGIN:VEVENT
DTSTART;TZID=Europe/Paris:20210622T080000
DTEND;TZID=Europe/Paris:20210623T170000
DTSTAMP:20260422T114617
CREATED:20210603T104833Z
LAST-MODIFIED:20210603T104837Z
UID:5818-1624348800-1624467600@archive.epicur.education
SUMMARY:Pros and cons of distance learning. An interdisciplinary perspective.
DESCRIPTION:The last year and a half of struggling with the coronavirus made it necessary for the education sector to transfer didactic work to virtual reality and to alter existing learning methods. After a few semesters\, a need has emerged to summarise what has been done so far and what are the results.  \n\n\n\nThat was the motivation behind organising the International Student Conference „Pros and cons of distance learning. An interdisciplinary perspective.” \n\n\n\n The conference was established to create space for an interdisciplinary discussion on the advantages and disadvantages of distance learning\, its results and perspectives for the future. \n\n\n\n Held entirely in English on 22nd and 23rd of June 2021\, it will be a part of EPICUR Project.  \n\n\n\nAuthors are looking for various perspectives on distance learning from many countries and fields of study. The event will be held entirely remotely. Details of access will be published shortly before the conference on the FB page of the event.
URL:https://archive.epicur.education/event/pros-and-cons-of-distance-learning-an-interdisciplinary-perspective/
CATEGORIES:EPICUR events,European events
ATTACH;FMTTYPE=image/jpeg:https://archive.epicur.education/wp-content/uploads/2021/06/MicrosoftTeams-image.jpeg
END:VEVENT
END:VCALENDAR