BEGIN:VCALENDAR
VERSION:2.0
PRODID:-//EPICUR - ECPv5.9.1//NONSGML v1.0//EN
CALSCALE:GREGORIAN
METHOD:PUBLISH
X-WR-CALNAME:EPICUR
X-ORIGINAL-URL:https://archive.epicur.education
X-WR-CALDESC:Events for EPICUR
BEGIN:VTIMEZONE
TZID:Europe/Paris
BEGIN:DAYLIGHT
TZOFFSETFROM:+0100
TZOFFSETTO:+0200
TZNAME:CEST
DTSTART:20210328T010000
END:DAYLIGHT
BEGIN:STANDARD
TZOFFSETFROM:+0200
TZOFFSETTO:+0100
TZNAME:CET
DTSTART:20211031T010000
END:STANDARD
END:VTIMEZONE
BEGIN:VEVENT
DTSTART;TZID=Europe/Paris:20210621T100000
DTEND;TZID=Europe/Paris:20210621T120000
DTSTAMP:20260422T115004
CREATED:20210603T084005Z
LAST-MODIFIED:20210603T084500Z
UID:5799-1624269600-1624276800@archive.epicur.education
SUMMARY:EPICUR Design Thinking Workshop
DESCRIPTION:The EPICUR Team warmly invites stakeholders from the EPICUR regions to participate in an international Design Thinking workshop to design and create a stakeholder-oriented tool to connect entrepreneurial ecosystems\, foster entrepreneurial activities\, and develop innovative solutions for society.  \n\n\n\nIf you are an entrepreneur\, student\, business angel\, you work in an innovation-driven company\, or social organisation\, join our workshop and be part of an inspiring team and a valuable product! \n\n\n\nSave the date and register here:https://www.soscisurvey.de/EPICUR_Workshop/
URL:https://archive.epicur.education/event/epicur-design-thinking-workshop/
CATEGORIES:EPICUR events
ATTACH;FMTTYPE=image/png:https://archive.epicur.education/wp-content/uploads/2021/06/desing-thinking3.png
END:VEVENT
BEGIN:VEVENT
DTSTART;TZID=Europe/Paris:20210621T140000
DTEND;TZID=Europe/Paris:20210621T160000
DTSTAMP:20260422T115004
CREATED:20210604T123353Z
LAST-MODIFIED:20210608T125455Z
UID:5826-1624284000-1624291200@archive.epicur.education
SUMMARY:EPICUR Early Career Researcher Workshop
DESCRIPTION:Are you an early career researcher (ECR)? Join the EPICUR-Research community for the workshop aimed to identify and address your early careers needs and opportunities! \n\n\n\nThe workshop on “Early Career Researchers within EPICUR: Definitions\, Opportunities and Challenges” provides a unique opportunity for researchers early in their careers to discuss their experience with peers from the eight EPICUR partner universities. The goal of this workshop is to discuss different approaches to defining ECRs\, to present an overview of possibilities and challenges that early career researchers currently face\, and – consequently – to develop more concise concepts for their support and integration within EPICUR-Research. \n\n\n\nThe workshop will take place on June 21st\, 2-4 pm (Zoom). To register for the workshop\, please fill in the form before June 17th: https://forms.office.com/r/HNJUDUV1wZ \n\n\n\nTo learn more about EPICUR Research\, please visit our website: https://archive.epicur.education/research/
URL:https://archive.epicur.education/event/epicur-research-community-workshop/
CATEGORIES:EPICUR events,European events
ATTACH;FMTTYPE=image/jpeg:https://archive.epicur.education/wp-content/uploads/2021/06/video-conference-5162927_640.jpg
END:VEVENT
END:VCALENDAR