BEGIN:VCALENDAR
VERSION:2.0
PRODID:-//EPICUR - ECPv5.9.1//NONSGML v1.0//EN
CALSCALE:GREGORIAN
METHOD:PUBLISH
X-WR-CALNAME:EPICUR
X-ORIGINAL-URL:https://archive.epicur.education
X-WR-CALDESC:Events for EPICUR
BEGIN:VTIMEZONE
TZID:Europe/Paris
BEGIN:DAYLIGHT
TZOFFSETFROM:+0100
TZOFFSETTO:+0200
TZNAME:CEST
DTSTART:20210328T010000
END:DAYLIGHT
BEGIN:STANDARD
TZOFFSETFROM:+0200
TZOFFSETTO:+0100
TZNAME:CET
DTSTART:20211031T010000
END:STANDARD
END:VTIMEZONE
BEGIN:VEVENT
DTSTART;TZID=Europe/Paris:20210302T173000
DTEND;TZID=Europe/Paris:20210302T190000
DTSTAMP:20260424T102938
CREATED:20210224T094838Z
LAST-MODIFIED:20210326T091259Z
UID:4974-1614706200-1614711600@archive.epicur.education
SUMMARY:EPICURtalks N°2
DESCRIPTION:The EPICUR Alliance cordially invites you to its second virtual EPICURtalk and discussion on March\, 2nd\, 2021 at 5:30 pm CET \nTeaching European Identities Radio Europe I: Postcolonial Europe\nwith Pia Masurczak\, Teaching Fellow\, University College Freiburg\n\n\n\nIn her talk\, Pia Masurczak will address the outcomes and experiences of her EPICUR-seminar on Postcolonial Europe. Debates about the restitution of African art and artefacts\, about the arrival of refugees and migrants\, or about systemic racism have (re-)surfaced in many European countries in the past few years. These issues are at least partly connected to the colonial legacy of many European nations and Europe as a whole. \nPostcolonial thought offers ways to look at European identities and histories from a different perspective. To explore the ramifications of colonialism\, the students of this seminar shared their analyses and discussions in the form of a five-part podcast series that they produced. Each episode discusses a specific aspect of this engagement with colonial legacies. Additionally\, the students were able to gain a basic understanding of how to transfer their academic skills to a (new) journalistic format and make their information accessible to a wider\, non-academic public.  \n\n\n\n \n\n\n\nThe EPICURtalks lecture will be followed by a discussion with PD Dr. Miriam Nandi\,project manager and lecturer for the EPICUR European Universities Initiative\, University College Freiburg. There will be time to network and get to know fellow teachers and lecturers from the eight partner institutions after the official part of the event. \n\n\n\nPlease RSVP to: k.kiefel@zv.uni-freiburg.de by March 1\, 2021. Attendees will receive their zoom link on March 2nd. The event will take approximately an hour.
URL:https://archive.epicur.education/event/epicurtalk-n2/
CATEGORIES:EPICUR events,European events
ATTACH;FMTTYPE=image/png:https://archive.epicur.education/wp-content/uploads/2021/02/EPICURtalk2-1.png
END:VEVENT
END:VCALENDAR