BEGIN:VCALENDAR
VERSION:2.0
PRODID:-//EPICUR - ECPv5.9.1//NONSGML v1.0//EN
CALSCALE:GREGORIAN
METHOD:PUBLISH
X-WR-CALNAME:EPICUR
X-ORIGINAL-URL:https://archive.epicur.education
X-WR-CALDESC:Events for EPICUR
BEGIN:VTIMEZONE
TZID:Europe/Paris
BEGIN:DAYLIGHT
TZOFFSETFROM:+0100
TZOFFSETTO:+0200
TZNAME:CEST
DTSTART:20210328T010000
END:DAYLIGHT
BEGIN:STANDARD
TZOFFSETFROM:+0200
TZOFFSETTO:+0100
TZNAME:CET
DTSTART:20211031T010000
END:STANDARD
END:VTIMEZONE
BEGIN:VEVENT
DTSTART;TZID=Europe/Paris:20210907T130000
DTEND;TZID=Europe/Paris:20210907T143000
DTSTAMP:20260420T215733
CREATED:20210824T141802Z
LAST-MODIFIED:20210831T120744Z
UID:9842-1631019600-1631025000@archive.epicur.education
SUMMARY:PhD Exchange Programme - info session
DESCRIPTION:Please register for the Info Session by Monday\, September 6th\, 2021 via email at phd-epicur@intl.kit.edu. \nBe EPICURious – be an Explorer!\n\n\nAre you EPICurious to gain first-hand interdisciplinary research experience with world-leading experts and access to research infrastructures at other European universities?\nAre you looking for opportunities to develop intercultural competence and other transversal skills through additional training to support and complement your research expertise?\nWould you like to expand your research networks and enhance your CV?\nThen the EPICUR PhD Exchange Programme might be just the thing for you!\n\n\nWhat does the programme offer?\n					\n						\n				\n				\n				\n					\n							\n											\n													\n										The PhD Exchange Programme – Research\, Training and Skills Development is an EPICUR mobility programme offering PhD candidates the opportunity to complete a cross-border exchange in one of the 8 EPICUR universities’ locations.* \n									\n								\n											\n													\n										Programme participants from all research fields are welcome (depending on the position requirements) and will be involved in current research projects at the providing research institutes (at the EPICUR university or in its region)\n									\n								\n											\n													\n										Programme participants will be invited to participate in virtual workshops on the topic of intercultural competence and other additional skills to support and complement research expertise (not mandatory) \n									\n								\n											\n													\n										Participants will be assigned a mentor at the receiving institute to provide ongoing guidance and support\n									\n								\n											\n													\n										The exchanges will take place between February and July 2022 with a minimum duration of 2 months\n									\n								\n											\n													\n										Participants may have the option to complete the exchange on site\, virtually\, or in a blended format (in consultation with the hosting research institutes)\n									\n						\n				\n				\n						\n					\n		\n								\n					\n		\n				\n						\n							\n					\n			\n							\n						\n				\n								\n				  \n* During the 2022 pilot run\, exchange positions may not be available in all locations.  \n  \nLearn more about the EPICUR PhD Exchange Programme and how to apply at the online Info Session on September 7th\, 2021 from 13h00 – 14h30 (CET)!Please register for the Info Session by Monday\, September 6th\, 2021 via email at phd-epicur@intl.kit.edu.
URL:https://archive.epicur.education/event/phd-exchange-programme-info-session/
CATEGORIES:EPICUR events
ATTACH;FMTTYPE=image/jpeg:https://archive.epicur.education/wp-content/uploads/2021/08/AdobeStock_322522389-scaled.jpeg
END:VEVENT
END:VCALENDAR